BEGIN:VCALENDAR
VERSION:2.0
PRODID:-//K Startup Center Seattle - ECPv6.15.20//NONSGML v1.0//EN
CALSCALE:GREGORIAN
METHOD:PUBLISH
X-WR-CALNAME:K Startup Center Seattle
X-ORIGINAL-URL:https://event-kscseattle.org
X-WR-CALDESC:Events for K Startup Center Seattle
REFRESH-INTERVAL;VALUE=DURATION:PT1H
X-Robots-Tag:noindex
X-PUBLISHED-TTL:PT1H
BEGIN:VTIMEZONE
TZID:America/Los_Angeles
BEGIN:DAYLIGHT
TZOFFSETFROM:-0800
TZOFFSETTO:-0700
TZNAME:PDT
DTSTART:20250309T100000
END:DAYLIGHT
BEGIN:STANDARD
TZOFFSETFROM:-0700
TZOFFSETTO:-0800
TZNAME:PST
DTSTART:20251102T090000
END:STANDARD
BEGIN:DAYLIGHT
TZOFFSETFROM:-0800
TZOFFSETTO:-0700
TZNAME:PDT
DTSTART:20260308T100000
END:DAYLIGHT
BEGIN:STANDARD
TZOFFSETFROM:-0700
TZOFFSETTO:-0800
TZNAME:PST
DTSTART:20261101T090000
END:STANDARD
BEGIN:DAYLIGHT
TZOFFSETFROM:-0800
TZOFFSETTO:-0700
TZNAME:PDT
DTSTART:20270314T100000
END:DAYLIGHT
BEGIN:STANDARD
TZOFFSETFROM:-0700
TZOFFSETTO:-0800
TZNAME:PST
DTSTART:20271107T090000
END:STANDARD
END:VTIMEZONE
BEGIN:VEVENT
DTSTART;TZID=America/Los_Angeles:20260604T143000
DTEND;TZID=America/Los_Angeles:20260604T180000
DTSTAMP:20260421T011114
CREATED:20260317T002912Z
LAST-MODIFIED:20260317T002912Z
UID:1273-1780583400-1780596000@event-kscseattle.org
SUMMARY:Smart City Innovation Showcase
DESCRIPTION:AI • Smart Infrastructure • Smart Buildings • Mobility \nJoin us in Seattle for the Smart City Innovation Showcase\, where innovative Korean startups will introduce cutting-edge smart city technologies—from AI-driven infrastructure management and smart buildings to intelligent mobility and infrastructure monitoring. \nThis event brings together public-sector leaders\, infrastructure companies\, investors\, and tech innovators shaping the future of cities across the Pacific Northwest. \nConnect with potential partners\, discover emerging solutions\, and explore how new technologies can be integrated into upcoming infrastructure projects. \n📅 Thursday\, June 4 | 2:30 PM – 6:00 PM\n📍 Seattle Convention Center – Summit\n📍RSVP: https://luma.com/yglmsgvv \n#SmartCity #SmartInfrastructure #UrbanInnovation #AI #SmartBuildings #Mobility #Seattle #PNW #KoreanStartups
URL:https://event-kscseattle.org/event/smart-city-innovation-showcase/
LOCATION:Seattle Convention Center – Summit\, 900 Pine St\, SEATTLE\, WA\, 98101\, United States
ATTACH;FMTTYPE=image/png:https://event-kscseattle.org/wp-content/uploads/2026/03/2026-Smart-City-Innovation-Showcase_LinkedIn-Posting-1200-x-627-scaled.png
ORGANIZER;CN="K-Startup Center Seattle":MAILTO:info@kscseattle.org
END:VEVENT
END:VCALENDAR